BEGIN:VCALENDAR
VERSION:2.0
PRODID:-//Fort Wayne Children's Choir - ECPv6.15.20//NONSGML v1.0//EN
CALSCALE:GREGORIAN
METHOD:PUBLISH
X-ORIGINAL-URL:https://fwcchoir.org
X-WR-CALDESC:Events for Fort Wayne Children's Choir
REFRESH-INTERVAL;VALUE=DURATION:PT1H
X-Robots-Tag:noindex
X-PUBLISHED-TTL:PT1H
BEGIN:VTIMEZONE
TZID:UTC
BEGIN:STANDARD
TZOFFSETFROM:+0000
TZOFFSETTO:+0000
TZNAME:UTC
DTSTART:20170101T000000
END:STANDARD
END:VTIMEZONE
BEGIN:VEVENT
DTSTART;TZID=UTC:20181201T143000
DTEND;TZID=UTC:20181201T163000
DTSTAMP:20260424T040441
CREATED:20181106T004106Z
LAST-MODIFIED:20181106T004106Z
UID:4662-1543674600-1543681800@fwcchoir.org
SUMMARY:The Nutcracker with the Fort Wayne Ballet
DESCRIPTION:Treble Choir with the Fort Wayne Philharmonic and Fort Wayne Ballet; 2:30 pm and 7:30 pm\, Arts United Center\, Tickets – prices vary\, 26o.422.4226
URL:https://fwcchoir.org/event/the-nutcracker-with-the-fort-wayne-ballet/
LOCATION:Arts United Center\, 303 E Main St\, Fort Wayne\, IN\, 46802
CATEGORIES:Performance
END:VEVENT
BEGIN:VEVENT
DTSTART;TZID=UTC:20181207T191500
DTEND;TZID=UTC:20181207T193000
DTSTAMP:20260424T040441
CREATED:20180913T190559Z
LAST-MODIFIED:20181106T004234Z
UID:3685-1544210100-1544211000@fwcchoir.org
SUMMARY:Christmas at the Courthouse
DESCRIPTION:Whitley Community Choir; 6:30-7:30 pm\, Whitley County Courthouse\, Free to the public
URL:https://fwcchoir.org/event/christmas-at-the-courthouse/
LOCATION:IN
CATEGORIES:Performance
END:VEVENT
BEGIN:VEVENT
DTSTART;TZID=UTC:20181207T193000
DTEND;TZID=UTC:20181207T213000
DTSTAMP:20260424T040441
CREATED:20181106T004204Z
LAST-MODIFIED:20181106T004204Z
UID:4664-1544211000-1544218200@fwcchoir.org
SUMMARY:Holiday Pops
DESCRIPTION:Concert Choir with the Fort Wayne Philharmonic; 7:30 pm\, Embassy Theatre\, Tickets available through the Fort Wayne Philharmonic\, 260.481.0777
URL:https://fwcchoir.org/event/holiday-pops-4/
LOCATION:Embassy Theatre\, 125 W Jefferson Blvd\, Fort Wayne\, IN\, 46802\, United States
CATEGORIES:Performance
END:VEVENT
BEGIN:VEVENT
DTSTART;TZID=UTC:20181208T140000
DTEND;TZID=UTC:20181208T160000
DTSTAMP:20260424T040441
CREATED:20181106T004334Z
LAST-MODIFIED:20181106T004334Z
UID:4668-1544277600-1544284800@fwcchoir.org
SUMMARY:Holidays Pops (Matinee)
DESCRIPTION:Concert Choir with the Fort Wayne Philharmonic; 2:00 pm\, Embassy Theatre\, Tickets available through the Fort Wayne Philharmonic\, 260.481.0777
URL:https://fwcchoir.org/event/holidays-pops-matinee/
LOCATION:Embassy Theatre\, 125 W Jefferson Blvd\, Fort Wayne\, IN\, 46802\, United States
CATEGORIES:Performance
END:VEVENT
BEGIN:VEVENT
DTSTART;TZID=UTC:20181208T193000
DTEND;TZID=UTC:20181208T213000
DTSTAMP:20260424T040441
CREATED:20181106T004411Z
LAST-MODIFIED:20181106T004411Z
UID:4670-1544297400-1544304600@fwcchoir.org
SUMMARY:Holiday Pops
DESCRIPTION:Concert Choir with the Fort Wayne Philharmonic; 7:30 pm\, Embassy Theatre\, Tickets available through the Fort Wayne Philharmonic\, 260.481.0777
URL:https://fwcchoir.org/event/holiday-pops-5/
LOCATION:Embassy Theatre\, 125 W Jefferson Blvd\, Fort Wayne\, IN\, 46802\, United States
CATEGORIES:Performance
END:VEVENT
BEGIN:VEVENT
DTSTART;TZID=UTC:20181215T140000
DTEND;TZID=UTC:20181215T160000
DTSTAMP:20260424T040441
CREATED:20181106T004454Z
LAST-MODIFIED:20181106T004454Z
UID:4672-1544882400-1544889600@fwcchoir.org
SUMMARY:Holiday Pops (Matinee)
DESCRIPTION:Concert Choir with the Fort Wayne Philharmonic; 2:00 pm\, Embassy Theatre\, Tickets available through the Fort Wayne Philharmonic\, 260.481.0777
URL:https://fwcchoir.org/event/holiday-pops-matinee-3/
LOCATION:Embassy Theatre\, 125 W Jefferson Blvd\, Fort Wayne\, IN\, 46802\, United States
CATEGORIES:Performance
END:VEVENT
BEGIN:VEVENT
DTSTART;TZID=UTC:20181215T193000
DTEND;TZID=UTC:20181215T213000
DTSTAMP:20260424T040441
CREATED:20181106T004536Z
LAST-MODIFIED:20181106T004536Z
UID:4674-1544902200-1544909400@fwcchoir.org
SUMMARY:Holiday Pops
DESCRIPTION:Concert Choir with the Fort Wayne Philharmonic; 7:30 pm\, Embassy Theatre\, Tickets available through the Fort Wayne Philharmonic\, 260.481.0777
URL:https://fwcchoir.org/event/holiday-pops-6/
LOCATION:Embassy Theatre\, 125 W Jefferson Blvd\, Fort Wayne\, IN\, 46802\, United States
CATEGORIES:Performance
END:VEVENT
BEGIN:VEVENT
DTSTART;TZID=UTC:20181216T080000
DTEND;TZID=UTC:20181216T170000
DTSTAMP:20260424T040441
CREATED:20181106T004648Z
LAST-MODIFIED:20181106T004648Z
UID:4676-1544947200-1544979600@fwcchoir.org
SUMMARY:Fort Wayne Youtheatre: A Charlie Brown Christmas
DESCRIPTION:Chamber Singers with Fort Wayne Youtheatre; First Presbyterian Theatre\, 300 W. Wayne\, Tickets available through ArtsTix\, 260.422.4226
URL:https://fwcchoir.org/event/fort-wayne-youtheatre-a-charlie-brown-christmas-2/
LOCATION:First Presbyterian Church\, 300 W. Wayne Street\, Fort Wayne\, IN\, 46802\, United States
CATEGORIES:Performance
END:VEVENT
BEGIN:VEVENT
DTSTART;TZID=UTC:20181216T190000
DTEND;TZID=UTC:20181216T210000
DTSTAMP:20260424T040441
CREATED:20181106T004736Z
LAST-MODIFIED:20181106T004736Z
UID:4679-1544986800-1544994000@fwcchoir.org
SUMMARY:Holiday Pops in Whitley County
DESCRIPTION:Whitley Community Choir with the Fort Wayne Philharmonic; 7:00 pm\, First Church of God\, Columbia City; Tickets available through the Fort Wayne Philharmonic Box Office\, 260.481.0777
URL:https://fwcchoir.org/event/holiday-pops-in-whitley-county/
LOCATION:IN
CATEGORIES:Performance
END:VEVENT
END:VCALENDAR