BEGIN:VCALENDAR
VERSION:2.0
PRODID:-//Fort Wayne Children's Choir - ECPv6.15.20//NONSGML v1.0//EN
CALSCALE:GREGORIAN
METHOD:PUBLISH
X-WR-CALNAME:Fort Wayne Children's Choir
X-ORIGINAL-URL:https://fwcchoir.org
X-WR-CALDESC:Events for Fort Wayne Children's Choir
REFRESH-INTERVAL;VALUE=DURATION:PT1H
X-Robots-Tag:noindex
X-PUBLISHED-TTL:PT1H
BEGIN:VTIMEZONE
TZID:UTC
BEGIN:STANDARD
TZOFFSETFROM:+0000
TZOFFSETTO:+0000
TZNAME:UTC
DTSTART:20180101T000000
END:STANDARD
END:VTIMEZONE
BEGIN:VEVENT
DTSTART;TZID=UTC:20190726T190000
DTEND;TZID=UTC:20190726T210000
DTSTAMP:20260423T164116
CREATED:20190520T221952Z
LAST-MODIFIED:20190606T202247Z
UID:8340-1564167600-1564174800@fwcchoir.org
SUMMARY:Choralfest Concert
DESCRIPTION:
URL:https://fwcchoir.org/event/choralfest-concert/
LOCATION:Foellinger Outdoor Theatre\, 3411 Sherman Blvd\, Fort Wayne\, IN\, 46808
END:VEVENT
END:VCALENDAR